BEGIN:VCALENDAR
VERSION:2.0
PRODID:-//Fox Glen Association - ECPv4.9.6//NONSGML v1.0//EN
CALSCALE:GREGORIAN
METHOD:PUBLISH
X-WR-CALNAME:Fox Glen Association
X-ORIGINAL-URL:https://staging.foxglenassociation.org
X-WR-CALDESC:Events for Fox Glen Association
BEGIN:VTIMEZONE
TZID:"America/Detroit"
BEGIN:DAYLIGHT
TZOFFSETFROM:-0500
TZOFFSETTO:-0400
TZNAME:EDT
DTSTART:20170312T070000
END:DAYLIGHT
BEGIN:STANDARD
TZOFFSETFROM:-0400
TZOFFSETTO:-0500
TZNAME:EST
DTSTART:20171105T060000
END:STANDARD
END:VTIMEZONE
BEGIN:VEVENT
DTSTART;TZID="America/Detroit":20170126T180000
DTEND;TZID="America/Detroit":20170126T193000
DTSTAMP:20260420T081227
CREATED:20161112T162640Z
LAST-MODIFIED:20161112T163418Z
UID:1505-1485453600-1485459000@staging.foxglenassociation.org
SUMMARY:Special Budget Meeting
DESCRIPTION:All co-owners are invited to a Special Budget Meeting on Thursday\, January 19\, 2016.  At that meeting the reserve plan and the 2017 budget will be discussed and the Board will answer questions about them. \n\n\n	\n
URL:https://staging.foxglenassociation.org/event/special-budget-meeting/
LOCATION:Pittsfield Senior Center\, 701 W. Ellsworth\, Ann Arbor\, MI \, 48108
END:VEVENT
END:VCALENDAR