BEGIN:VCALENDAR
VERSION:2.0
PRODID:-//Fox Glen Association - ECPv4.9.6//NONSGML v1.0//EN
CALSCALE:GREGORIAN
METHOD:PUBLISH
X-WR-CALNAME:Fox Glen Association
X-ORIGINAL-URL:https://staging.foxglenassociation.org
X-WR-CALDESC:Events for Fox Glen Association
BEGIN:VTIMEZONE
TZID:"America/Detroit"
BEGIN:DAYLIGHT
TZOFFSETFROM:-0500
TZOFFSETTO:-0400
TZNAME:EDT
DTSTART:20150308T070000
END:DAYLIGHT
BEGIN:STANDARD
TZOFFSETFROM:-0400
TZOFFSETTO:-0500
TZNAME:EST
DTSTART:20151101T060000
END:STANDARD
END:VTIMEZONE
BEGIN:VEVENT
DTSTART;TZID="America/Detroit":20151112T180000
DTEND;TZID="America/Detroit":20151112T200000
DTSTAMP:20260420T094709
CREATED:20151008T231037Z
LAST-MODIFIED:20151008T231037Z
UID:931-1447351200-1447358400@staging.foxglenassociation.org
SUMMARY:November FGA Board Meeting
DESCRIPTION:\n\n	\n
URL:https://staging.foxglenassociation.org/event/november-fga-board-meeting/
LOCATION:Select Management\, 4045 Stone School Rd\, Ann Arbor\, 48108\, United States
END:VEVENT
END:VCALENDAR