BEGIN:VCALENDAR
VERSION:2.0
PRODID:-//Fox Glen Association - ECPv4.9.6//NONSGML v1.0//EN
CALSCALE:GREGORIAN
METHOD:PUBLISH
X-WR-CALNAME:Fox Glen Association
X-ORIGINAL-URL:https://staging.foxglenassociation.org
X-WR-CALDESC:Events for Fox Glen Association
BEGIN:VTIMEZONE
TZID:"America/Detroit"
BEGIN:DAYLIGHT
TZOFFSETFROM:-0500
TZOFFSETTO:-0400
TZNAME:EDT
DTSTART:20160313T070000
END:DAYLIGHT
BEGIN:STANDARD
TZOFFSETFROM:-0400
TZOFFSETTO:-0500
TZNAME:EST
DTSTART:20161106T060000
END:STANDARD
END:VTIMEZONE
BEGIN:VEVENT
DTSTART;TZID="America/Detroit":20161110T180000
DTEND;TZID="America/Detroit":20161110T200000
DTSTAMP:20260420T081649
CREATED:20160919T144024Z
LAST-MODIFIED:20160919T144024Z
UID:1412-1478800800-1478808000@staging.foxglenassociation.org
SUMMARY:November 2016 Board meeting
DESCRIPTION:\n\n	\n
URL:https://staging.foxglenassociation.org/event/november-2016-board-meeting/
LOCATION:Select Management\, 4045 Stone School Rd\, Ann Arbor\, 48108\, United States
END:VEVENT
END:VCALENDAR