BEGIN:VCALENDAR
VERSION:2.0
PRODID:-//Fox Glen Association - ECPv4.9.6//NONSGML v1.0//EN
CALSCALE:GREGORIAN
METHOD:PUBLISH
X-WR-CALNAME:Fox Glen Association
X-ORIGINAL-URL:https://staging.foxglenassociation.org
X-WR-CALDESC:Events for Fox Glen Association
BEGIN:VTIMEZONE
TZID:"America/Detroit"
BEGIN:DAYLIGHT
TZOFFSETFROM:-0500
TZOFFSETTO:-0400
TZNAME:EDT
DTSTART:20160313T070000
END:DAYLIGHT
BEGIN:STANDARD
TZOFFSETFROM:-0400
TZOFFSETTO:-0500
TZNAME:EST
DTSTART:20161106T060000
END:STANDARD
END:VTIMEZONE
BEGIN:VEVENT
DTSTART;TZID="America/Detroit":20161002T130000
DTEND;TZID="America/Detroit":20161002T170000
DTSTAMP:20260422T084139
CREATED:20160901T033312Z
LAST-MODIFIED:20160901T033456Z
UID:1389-1475413200-1475427600@staging.foxglenassociation.org
SUMMARY:Nancy Winchester's Celebration of her life
DESCRIPTION:Winchester\, Nancy 8/17/1933 – 8/25/2016 Ann Arbor Nancy Jean Stehle Winchester passed away August 25\, 2016\, after living a full and happy life. She was born in Ann Arbor Township on August 17\, 1933 to Wanda and Herbert Stehle. She married her high school sweetheart\, John H. Winchester\, on September 2\, 1952. Nancy earned her B.S. and M.S. degrees from Eastern Michigan University and was a teacher for 25 years\, 18 of those years at Haisley Elementary School in Ann Arbor. Nancy loved teaching and the special relationships she had with her students and their parents\, as well as her fellow teachers. Nancy adored her family and her many grandchildren and great-children. Nancy was preceded in death by her husband\, John H. Winchester\, her mother and father\, Wanda and Herbert Stehle\, and her brother\, Neil Stehle\, who lost his life in the Vietnam War in 1968. She is survived by her sister\, Sharon Reynolds\, sister and brother-in law Julie and Art DiBlassio\, brother-in-law Richard (Judy) Winchester; her children: Laurie (David) Picard\, John (Linda) Winchester\, Jr.\, William (Wendy) Winchester\, and Lynn (Kevin) Donnelly; grandchildren: Aaron (Tabitha) Barrett\, Keirston (Christopher) Chiapelli\, LeighAnn (Scott) Meyer\, Austin (Jessica) Donnelly\, Mark Winchester\, Tyler Picard\, Leslie Donnelly\, Nicholas Winchester\, Connor Donnelly\, Samantha Winchester; great-grandchildren: Christian\, Beau\, Luke and Waylon Barrett\, and Welles Meyer; and several nieces and nephews. A celebration of Nancy’s life will be held on Sunday\, October 2\, 2016\, at 1 p.m.\, First Congregational Church\, Ann Arbor\, MI. In lieu of flowers\, you may donate to the in Nancy’s honor. \nFrom – http://obits.mlive.com/obituaries/annarbor/obituary.aspx?n=nancy-winchester&pid=181240098 \n\n\n	\n
URL:https://staging.foxglenassociation.org/event/nancy-winchesters-celebration-of-her-life/
LOCATION:First Congregational Church\, 608 E William St\, Ann Arbor\, MI\, 48104\, United States
END:VEVENT
END:VCALENDAR