BEGIN:VCALENDAR
VERSION:2.0
PRODID:-//Fox Glen Association - ECPv4.9.6//NONSGML v1.0//EN
CALSCALE:GREGORIAN
METHOD:PUBLISH
X-WR-CALNAME:Fox Glen Association
X-ORIGINAL-URL:https://staging.foxglenassociation.org
X-WR-CALDESC:Events for Fox Glen Association
BEGIN:VTIMEZONE
TZID:"America/Detroit"
BEGIN:DAYLIGHT
TZOFFSETFROM:-0500
TZOFFSETTO:-0400
TZNAME:EDT
DTSTART:20150308T070000
END:DAYLIGHT
BEGIN:STANDARD
TZOFFSETFROM:-0400
TZOFFSETTO:-0500
TZNAME:EST
DTSTART:20151101T060000
END:STANDARD
END:VTIMEZONE
BEGIN:VEVENT
DTSTART;TZID="America/Detroit":20151217T190000
DTEND;TZID="America/Detroit":20151217T210000
DTSTAMP:20260420T093915
CREATED:20151214T125652Z
LAST-MODIFIED:20151214T131334Z
UID:1025-1450378800-1450386000@staging.foxglenassociation.org
SUMMARY:Fox Glen Holiday Party
DESCRIPTION:Please come to a Holiday Party for Fox Glen owners and residents this Thursday\, December 17! \nPlease plan to attend if you are able.  It’s a great way to meet neighbors that you might not have met before and talk again to those you do know.  Everyone always has an enjoyable time at Patti’s parties! \np.s.  If you’ve already replied to Patti\, no need to do so again.  If not\, please be sure to give Patti the courtesy of a reply if you will be there so that she knows how many people to expect. \nSEE THE FGA BLOG FOR MORE INFO \n\n\n	\n
URL:https://staging.foxglenassociation.org/event/fox-glen-holiday-party/
LOCATION:Patti Dobbs\, 3857 Fox Glen Drive\, Ann Arbor\, 48108\, United States
END:VEVENT
END:VCALENDAR