BEGIN:VCALENDAR
VERSION:2.0
PRODID:-//Fox Glen Association - ECPv4.9.6//NONSGML v1.0//EN
CALSCALE:GREGORIAN
METHOD:PUBLISH
X-WR-CALNAME:Fox Glen Association
X-ORIGINAL-URL:https://staging.foxglenassociation.org
X-WR-CALDESC:Events for Fox Glen Association
BEGIN:VTIMEZONE
TZID:"America/Detroit"
BEGIN:DAYLIGHT
TZOFFSETFROM:-0500
TZOFFSETTO:-0400
TZNAME:EDT
DTSTART:20160313T070000
END:DAYLIGHT
BEGIN:STANDARD
TZOFFSETFROM:-0400
TZOFFSETTO:-0500
TZNAME:EST
DTSTART:20161106T060000
END:STANDARD
END:VTIMEZONE
BEGIN:VEVENT
DTSTART;TZID="America/Detroit":20160211T180000
DTEND;TZID="America/Detroit":20160211T200000
DTSTAMP:20260420T093139
CREATED:20151008T234445Z
LAST-MODIFIED:20160307T223246Z
UID:935-1455213600-1455220800@staging.foxglenassociation.org
SUMMARY:February 2016 FGA Board Meeting
DESCRIPTION:\n\n	\n
URL:https://staging.foxglenassociation.org/event/february-fga-board-meeting/
LOCATION:Select Management\, 4045 Stone School Rd\, Ann Arbor\, 48108\, United States
CATEGORIES:Board Meetings
END:VEVENT
END:VCALENDAR