BEGIN:VCALENDAR
VERSION:2.0
PRODID:-//Fox Glen Association - ECPv4.9.6//NONSGML v1.0//EN
CALSCALE:GREGORIAN
METHOD:PUBLISH
X-WR-CALNAME:Fox Glen Association
X-ORIGINAL-URL:https://staging.foxglenassociation.org
X-WR-CALDESC:Events for Fox Glen Association
BEGIN:VTIMEZONE
TZID:"America/Detroit"
BEGIN:DAYLIGHT
TZOFFSETFROM:-0500
TZOFFSETTO:-0400
TZNAME:EDT
DTSTART:20160313T070000
END:DAYLIGHT
BEGIN:STANDARD
TZOFFSETFROM:-0400
TZOFFSETTO:-0500
TZNAME:EST
DTSTART:20161106T060000
END:STANDARD
END:VTIMEZONE
BEGIN:VEVENT
DTSTART;TZID="America/Detroit":20160908T180000
DTEND;TZID="America/Detroit":20160908T200000
DTSTAMP:20260420T082302
CREATED:20160617T200257Z
LAST-MODIFIED:20160907T200740Z
UID:1292-1473357600-1473364800@staging.foxglenassociation.org
SUMMARY:2016 Fox Glen Association Annual Meeting
DESCRIPTION:All Fox Glen Co-owners are invited (and encouraged!) to attend our annual meeting.  Reports from board members will be given on topics of interest (for example\, plans for our new roads\, the drainage basins\, etc.) and elections will be held to replace outgoing board members.  We will have a guest speaker who will talk about the condition of our 5 basins. \nRefreshments will be available (sandwiches or pizza\, bottled water\, veggies\, chips\, and cookies). \n  \n\n\n	\n
URL:https://staging.foxglenassociation.org/event/2016-fox-glen-association-annual-meeting/
LOCATION:Pittsfield Senior Center\, 701 W. Ellsworth\, Ann Arbor\, MI \, 48108
END:VEVENT
END:VCALENDAR