BEGIN:VCALENDAR
VERSION:2.0
PRODID:-//Fox Glen Association - ECPv4.9.6//NONSGML v1.0//EN
CALSCALE:GREGORIAN
METHOD:PUBLISH
X-WR-CALNAME:Fox Glen Association
X-ORIGINAL-URL:https://staging.foxglenassociation.org
X-WR-CALDESC:Events for Fox Glen Association
BEGIN:VTIMEZONE
TZID:"America/Detroit"
BEGIN:DAYLIGHT
TZOFFSETFROM:-0500
TZOFFSETTO:-0400
TZNAME:EDT
DTSTART:20150308T070000
END:DAYLIGHT
BEGIN:STANDARD
TZOFFSETFROM:-0400
TZOFFSETTO:-0500
TZNAME:EST
DTSTART:20151101T060000
END:STANDARD
END:VTIMEZONE
BEGIN:VEVENT
DTSTART;TZID="America/Detroit":20150910T180000
DTEND;TZID="America/Detroit":20150910T200000
DTSTAMP:20260420T140725
CREATED:20150802T190458Z
LAST-MODIFIED:20150808T230538Z
UID:494-1441908000-1441915200@staging.foxglenassociation.org
SUMMARY:2015 Annual Community Meeting
DESCRIPTION:All Fox Glen Co-owners are invited to attend this meeting.  Elections will be held and a brief orientation to our new website will be given. \n\n\n	\n
URL:https://staging.foxglenassociation.org/event/2015-annual-community-meeting/
LOCATION:Pittsfield Senior Center\, 701 W. Ellsworth\, Ann Arbor\, MI \, 48108
END:VEVENT
END:VCALENDAR